BEGIN:VCALENDAR
VERSION:2.0
PRODID:-//San Mateo County Pride Center - ECPv6.15.20//NONSGML v1.0//EN
CALSCALE:GREGORIAN
METHOD:PUBLISH
X-WR-CALNAME:San Mateo County Pride Center
X-ORIGINAL-URL:https://sanmateopride.org
X-WR-CALDESC:Events for San Mateo County Pride Center
REFRESH-INTERVAL;VALUE=DURATION:PT1H
X-Robots-Tag:noindex
X-PUBLISHED-TTL:PT1H
BEGIN:VTIMEZONE
TZID:America/Los_Angeles
BEGIN:DAYLIGHT
TZOFFSETFROM:-0800
TZOFFSETTO:-0700
TZNAME:PDT
DTSTART:20250309T100000
END:DAYLIGHT
BEGIN:STANDARD
TZOFFSETFROM:-0700
TZOFFSETTO:-0800
TZNAME:PST
DTSTART:20251102T090000
END:STANDARD
BEGIN:DAYLIGHT
TZOFFSETFROM:-0800
TZOFFSETTO:-0700
TZNAME:PDT
DTSTART:20260308T100000
END:DAYLIGHT
BEGIN:STANDARD
TZOFFSETFROM:-0700
TZOFFSETTO:-0800
TZNAME:PST
DTSTART:20261101T090000
END:STANDARD
BEGIN:DAYLIGHT
TZOFFSETFROM:-0800
TZOFFSETTO:-0700
TZNAME:PDT
DTSTART:20270314T100000
END:DAYLIGHT
BEGIN:STANDARD
TZOFFSETFROM:-0700
TZOFFSETTO:-0800
TZNAME:PST
DTSTART:20271107T090000
END:STANDARD
END:VTIMEZONE
BEGIN:VEVENT
DTSTART;TZID=America/Los_Angeles:20260420T201030
DTEND;TZID=America/Los_Angeles:20260420T201030
DTSTAMP:20260420T201030
CREATED:20250207T050754Z
LAST-MODIFIED:20250207T050754Z
UID:10916-1776715830-1776715830@sanmateopride.org
SUMMARY:Gay Men's Group (18+)
DESCRIPTION:Are you tired of living in a text and dating app focused world? Are you looking for a place to virtually connect with Gay Men and build Community and Friendship? Meet with Jeff on the 4th Tuesday of each month to discuss relationships\, current events\, culture\, and more. There are a wide range of ages and stories in our Gay Men’s Group. \nBe a part of the conversation! \nThis group meets the fourth Tuesday of the month from 6-7:30 PM on Zoom. \nRegistration is required: tinyurl.com/smcpc-gaymensgroup \nPlease contact Ishani Dugar\, they/xe at Ishani.Dugar@sanmateopride.org or 650-465-2407 for additional information or questions regarding the group. \nWe are currently looking for a volunteer co-facilitators for the Gay Men’s Group! If you are interested\, please reach out to Ishani Dugar at Ishani.Dugar@sanmateopride.org.
URL:https://sanmateopride.org/event/gay-mens-group-18-5/
CATEGORIES:Peer Support Group
END:VEVENT
END:VCALENDAR