BEGIN:VCALENDAR
VERSION:2.0
PRODID:-//San Mateo County Pride Center - ECPv6.15.20//NONSGML v1.0//EN
CALSCALE:GREGORIAN
METHOD:PUBLISH
X-WR-CALNAME:San Mateo County Pride Center
X-ORIGINAL-URL:https://sanmateopride.org
X-WR-CALDESC:Events for San Mateo County Pride Center
REFRESH-INTERVAL;VALUE=DURATION:PT1H
X-Robots-Tag:noindex
X-PUBLISHED-TTL:PT1H
BEGIN:VTIMEZONE
TZID:America/Los_Angeles
BEGIN:DAYLIGHT
TZOFFSETFROM:-0800
TZOFFSETTO:-0700
TZNAME:PDT
DTSTART:20250309T100000
END:DAYLIGHT
BEGIN:STANDARD
TZOFFSETFROM:-0700
TZOFFSETTO:-0800
TZNAME:PST
DTSTART:20251102T090000
END:STANDARD
BEGIN:DAYLIGHT
TZOFFSETFROM:-0800
TZOFFSETTO:-0700
TZNAME:PDT
DTSTART:20260308T100000
END:DAYLIGHT
BEGIN:STANDARD
TZOFFSETFROM:-0700
TZOFFSETTO:-0800
TZNAME:PST
DTSTART:20261101T090000
END:STANDARD
BEGIN:DAYLIGHT
TZOFFSETFROM:-0800
TZOFFSETTO:-0700
TZNAME:PDT
DTSTART:20270314T100000
END:DAYLIGHT
BEGIN:STANDARD
TZOFFSETFROM:-0700
TZOFFSETTO:-0800
TZNAME:PST
DTSTART:20271107T090000
END:STANDARD
END:VTIMEZONE
BEGIN:VEVENT
DTSTART;TZID=America/Los_Angeles:20260420T214906
DTEND;TZID=America/Los_Angeles:20260420T214906
DTSTAMP:20260420T214906
CREATED:20251031T034624Z
LAST-MODIFIED:20251031T034624Z
UID:15077-1776721746-1776721746@sanmateopride.org
SUMMARY:Belonging In Nature - a Queer and Trans Community Hike in Corral de Tierra
DESCRIPTION:Belonging In Nature – a Queer and Trans Community Hike in Corral de Tierra\nSaturday\, November 8 from 10:00am-2:00PM in Corral de Tierra\nJoin us on Saturday\, November 8 from 10:00AM – 2:00PM for Belonging in Nature: a monthly Queer and Trans* Community Day! \nExplore Rancho Corral de Tierra on a guided hike with the Golden Gate National Parks Conservancy\, the San Mateo County Pride Center\, and Coast Pride. \nHike a flat 1.8-mile loop and learn about the park\, go birdwatching\, and explore your native plants! \nRegister using the QR code or with this link – https://www.parksconservancy.org/events/register?fid=113&eid=35093 \nQuestions? Contact Elana.Ron@sanmateopride.org or 650-591-0133
URL:https://sanmateopride.org/event/belonging-in-nature-a-queer-and-trans-community-hike-in-corral-de-tierra/
CATEGORIES:Community Event,Special Event
END:VEVENT
BEGIN:VEVENT
DTSTART;TZID=America/Los_Angeles:20260420T214906
DTEND;TZID=America/Los_Angeles:20260420T214906
DTSTAMP:20260420T214906
CREATED:20251031T033343Z
LAST-MODIFIED:20251031T033343Z
UID:15075-1776721746-1776721746@sanmateopride.org
SUMMARY:Trans* 101 (A Free Virtual Community Training)
DESCRIPTION:FREE Community Trans 101 Training\nWednesday November 19th from 6-8pm on Zoom\n\nJoin us on Wednesday November 19th from 6-8pm for a FREE VIRTUAL training.  We will be presenting our Trans 101\, and offering in-depth conversations on topics such as transphobia\, transitioning\, being an ally to people of all gender identities and expressions\, and more. We conclude this training with tips and tricks on how to be an advocate for the trans community and resources for continued learning.   \nPLEASE NOTE: This training requires a pre-existing understanding of the differences and relationships between Sexual Orientation\, Gender Identity\, and Expression. Attending this training without that knowledge will be confusing and ineffective for your learning.  \nRegister at: https://tinyurl.com/Nov25Trans101 \nQuestions? Email Ishani.Dugar@sanmateopride.org or 650-554-1234 (call/text)
URL:https://sanmateopride.org/event/trans-101-a-free-virtual-community-training/
CATEGORIES:Community Event,Special Event
END:VEVENT
BEGIN:VEVENT
DTSTART;TZID=America/Los_Angeles:20260420T214906
DTEND;TZID=America/Los_Angeles:20260420T214906
DTSTAMP:20260420T214906
CREATED:20251113T102145Z
LAST-MODIFIED:20251113T102145Z
UID:15127-1776721746-1776721746@sanmateopride.org
SUMMARY:Clothing Swap (at Outlet)
DESCRIPTION:We’re excited to announce that we will be co-hosting a clothing swap on Tuesday\, November 25th from 4 to 7 pm with our friends at Outlet! We will have snacks\, music\, and space for folks to try on + show off clothing they find. Bring clean gently used clothes and swap them out for a closet refresh! We can’t wait to see you and your new finds🥳 \nAny leftover clothing will be donated to Out of the Closet\, a nonprofit chain of thrift stores whose revenue pays for HIV testing\, treatment\, and prevention in the Bay Area and around the world. \nOutlet is located at 1779 Woodside Road\, Suite 200 in Redwood City. \nNo registration is required\, just come on by!
URL:https://sanmateopride.org/event/clothing-swap-at-outlet/
CATEGORIES:Community Event,Special Event
END:VEVENT
END:VCALENDAR