BEGIN:VCALENDAR
VERSION:2.0
PRODID:-//San Mateo County Pride Center - ECPv6.15.20//NONSGML v1.0//EN
CALSCALE:GREGORIAN
METHOD:PUBLISH
X-WR-CALNAME:San Mateo County Pride Center
X-ORIGINAL-URL:https://sanmateopride.org
X-WR-CALDESC:Events for San Mateo County Pride Center
REFRESH-INTERVAL;VALUE=DURATION:PT1H
X-Robots-Tag:noindex
X-PUBLISHED-TTL:PT1H
BEGIN:VTIMEZONE
TZID:America/Los_Angeles
BEGIN:DAYLIGHT
TZOFFSETFROM:-0800
TZOFFSETTO:-0700
TZNAME:PDT
DTSTART:20250309T100000
END:DAYLIGHT
BEGIN:STANDARD
TZOFFSETFROM:-0700
TZOFFSETTO:-0800
TZNAME:PST
DTSTART:20251102T090000
END:STANDARD
BEGIN:DAYLIGHT
TZOFFSETFROM:-0800
TZOFFSETTO:-0700
TZNAME:PDT
DTSTART:20260308T100000
END:DAYLIGHT
BEGIN:STANDARD
TZOFFSETFROM:-0700
TZOFFSETTO:-0800
TZNAME:PST
DTSTART:20261101T090000
END:STANDARD
BEGIN:DAYLIGHT
TZOFFSETFROM:-0800
TZOFFSETTO:-0700
TZNAME:PDT
DTSTART:20270314T100000
END:DAYLIGHT
BEGIN:STANDARD
TZOFFSETFROM:-0700
TZOFFSETTO:-0800
TZNAME:PST
DTSTART:20271107T090000
END:STANDARD
END:VTIMEZONE
BEGIN:VEVENT
DTSTART;TZID=America/Los_Angeles:20260419T155336
DTEND;TZID=America/Los_Angeles:20260419T155336
DTSTAMP:20260419T155336
CREATED:20250806T022414Z
LAST-MODIFIED:20250806T022415Z
UID:14645-1776614016-1776614016@sanmateopride.org
SUMMARY:Monday LGBTQIA+ Youth Group
DESCRIPTION:**THIS GROUP IS ON HIATUS THROUGH THE END OF SUMMER 2025** \nA peer support group for LGBTQIA+ youth ages 10-18. this group is a safe and confidential space to share experiences and build community. This group is English speaking. \nTo sign up\, please fill out Outlet’s Intake Form by visiting: tinyurl.com/OutletGroupForm \nLocation: This group meets in-person every Monday from 4:30pm – 6:00pm in Redwood City at Adolescent Counseling Services (1779 Woodside Rd # 200\, Redwood City\, CA 94061). \nClick here for the flyer \nQuestions? Contact Outlet at outletprogram@acs-teens.org or 650-424-0852 ext 107
URL:https://sanmateopride.org/event/monday-lgbtqia-youth-group-2/
CATEGORIES:youth-group
END:VEVENT
BEGIN:VEVENT
DTSTART;TZID=America/Los_Angeles:20260419T155336
DTEND;TZID=America/Los_Angeles:20260419T155336
DTSTAMP:20260419T155336
CREATED:20251030T210227Z
LAST-MODIFIED:20251030T210227Z
UID:15072-1776614016-1776614016@sanmateopride.org
SUMMARY:Holiday Supp-Art Mapping (Co-hosted with CORA)
DESCRIPTION:Holiday Supp-Art Mapping\nMonday\, November 3 from 5:30-7 PM at CORA in the Carelle Room (2205 Palm Ave\, San Mateo 94403) \n Are you concerned about preparing for and navigating the stress of the upcoming holidays? Are you hoping to generate a list of personalized coping tools for yourself to utilize during the holiday season and beyond?   \nJoin CORA and the San Mateo County Pride Center for our upcoming holiday coping Supp-Art Mapping workshop to learn more about taking care of our internal and external being! We will take the time to create a list of our own coping tools and comforts. This is a free event and all ages are welcome.   \n*We will provide all the materials needed but you are welcome to bring any special materials you would like to use for the event*   \nRegister using this link –https://tinyurl.com/SuppArtMappingNov25 
URL:https://sanmateopride.org/event/holiday-supp-art-mapping-co-hosted-with-cora/
CATEGORIES:Community Event,Special Event
END:VEVENT
END:VCALENDAR