BEGIN:VCALENDAR
VERSION:2.0
PRODID:-//San Mateo County Pride Center - ECPv6.15.20//NONSGML v1.0//EN
CALSCALE:GREGORIAN
METHOD:PUBLISH
X-WR-CALNAME:San Mateo County Pride Center
X-ORIGINAL-URL:https://sanmateopride.org
X-WR-CALDESC:Events for San Mateo County Pride Center
REFRESH-INTERVAL;VALUE=DURATION:PT1H
X-Robots-Tag:noindex
X-PUBLISHED-TTL:PT1H
BEGIN:VTIMEZONE
TZID:America/Los_Angeles
BEGIN:DAYLIGHT
TZOFFSETFROM:-0800
TZOFFSETTO:-0700
TZNAME:PDT
DTSTART:20250309T100000
END:DAYLIGHT
BEGIN:STANDARD
TZOFFSETFROM:-0700
TZOFFSETTO:-0800
TZNAME:PST
DTSTART:20251102T090000
END:STANDARD
BEGIN:DAYLIGHT
TZOFFSETFROM:-0800
TZOFFSETTO:-0700
TZNAME:PDT
DTSTART:20260308T100000
END:DAYLIGHT
BEGIN:STANDARD
TZOFFSETFROM:-0700
TZOFFSETTO:-0800
TZNAME:PST
DTSTART:20261101T090000
END:STANDARD
BEGIN:DAYLIGHT
TZOFFSETFROM:-0800
TZOFFSETTO:-0700
TZNAME:PDT
DTSTART:20270314T100000
END:DAYLIGHT
BEGIN:STANDARD
TZOFFSETFROM:-0700
TZOFFSETTO:-0800
TZNAME:PST
DTSTART:20271107T090000
END:STANDARD
END:VTIMEZONE
BEGIN:VEVENT
DTSTART;TZID=America/Los_Angeles:20260419T135640
DTEND;TZID=America/Los_Angeles:20260419T135640
DTSTAMP:20260419T135640
CREATED:20250829T030226Z
LAST-MODIFIED:20250912T003832Z
UID:14823-1776607000-1776607000@sanmateopride.org
SUMMARY:Halloween Queeraoke
DESCRIPTION:Halloween Queeraoke- Hosted by Elana and Yossi!\nWednesday\, October 29th from 5-8pm\nCan you think of a better way to prepare for Halloween than getting together with your besties and singing along to your favorite songs? Whether you’re a karaoke regular\, someone who is curious about karaoke or someone who’d like to try singing a new song\, this is a space for you! \nCostumes are encouraged\, but not required. Dress like your favorite animal or mythical creature.  Join Outlet and the San Mateo County Pride Center for this fun and fabulous space! \nThis is a sober\, all ages event. Snacks will be provided. \nThis event is scheduled to take place at Adolescent Counseling Services (1779 Woodside Rd Suite 200\, Redwood City\, 94061) \nRegister here- https://tinyurl.com/SMCPCHWQueeraoke2025 \nQuestions? Contact info@sanmateopride.org or call 650-591-0133
URL:https://sanmateopride.org/event/halloween-queeraoke/
CATEGORIES:Special Event
END:VEVENT
END:VCALENDAR