BEGIN:VCALENDAR
VERSION:2.0
PRODID:-//San Mateo County Pride Center - ECPv6.15.20//NONSGML v1.0//EN
CALSCALE:GREGORIAN
METHOD:PUBLISH
X-ORIGINAL-URL:https://sanmateopride.org
X-WR-CALDESC:Events for San Mateo County Pride Center
REFRESH-INTERVAL;VALUE=DURATION:PT1H
X-Robots-Tag:noindex
X-PUBLISHED-TTL:PT1H
BEGIN:VTIMEZONE
TZID:America/Los_Angeles
BEGIN:DAYLIGHT
TZOFFSETFROM:-0800
TZOFFSETTO:-0700
TZNAME:PDT
DTSTART:20250309T100000
END:DAYLIGHT
BEGIN:STANDARD
TZOFFSETFROM:-0700
TZOFFSETTO:-0800
TZNAME:PST
DTSTART:20251102T090000
END:STANDARD
BEGIN:DAYLIGHT
TZOFFSETFROM:-0800
TZOFFSETTO:-0700
TZNAME:PDT
DTSTART:20260308T100000
END:DAYLIGHT
BEGIN:STANDARD
TZOFFSETFROM:-0700
TZOFFSETTO:-0800
TZNAME:PST
DTSTART:20261101T090000
END:STANDARD
BEGIN:DAYLIGHT
TZOFFSETFROM:-0800
TZOFFSETTO:-0700
TZNAME:PDT
DTSTART:20270314T100000
END:DAYLIGHT
BEGIN:STANDARD
TZOFFSETFROM:-0700
TZOFFSETTO:-0800
TZNAME:PST
DTSTART:20271107T090000
END:STANDARD
END:VTIMEZONE
BEGIN:VEVENT
DTSTART;TZID=America/Los_Angeles:20260419T135709
DTEND;TZID=America/Los_Angeles:20260419T135709
DTSTAMP:20260419T135709
CREATED:20250806T032340Z
LAST-MODIFIED:20250806T032341Z
UID:14667-1776607029-1776607029@sanmateopride.org
SUMMARY:Trans Group (ages 14-25)
DESCRIPTION:A peer support group for Trans* folks ages 14-25 who identify as part of the transgender community or who want to explore their gender identity. This group is a safe and confidential space to share experiences and built positive relationship in a welcoming environment and will include specific trans femme/trans/masc breakout spaces. This group is English speaking. \nThis group meets weekly on Tuesdays from 5-6:30pm on hybrid on Zoom or at ACS Outlet (. \nTo sign up\, please fill out Outlet’s intake form using this link: tinyurl.com/OutletGroupForm or scan the QR Code. \nQuestions? Please contact Outletprogram@acs-teens.org or call 650-424-0842 ext. 107.
URL:https://sanmateopride.org/event/trans-group-ages-14-25-5-2/
CATEGORIES:youth-group
END:VEVENT
BEGIN:VEVENT
DTSTART;TZID=America/Los_Angeles:20260419T135709
DTEND;TZID=America/Los_Angeles:20260419T135709
DTSTAMP:20260419T135709
CREATED:20250912T181859Z
LAST-MODIFIED:20250912T181859Z
UID:14887-1776607029-1776607029@sanmateopride.org
SUMMARY:10/16 | Gayme Night at Peninsula Books
DESCRIPTION:San Mateo County Pride Center Gayme Night at Peninsula Books – a free community event!\nInstead of being bored\, join the Pride Center at Peninsula Books for a fun night of board games! From party games to trivia\, we will have as much variety in games as we do in our community. Plus\, we will even have prizes! You have nothing to lose (except for every game you play). Join us on Thursday\, October 16 from 6:00-8:00 PM! \nRegistration is encouraged\, but not required. Register in advance to be entered to win a drawing prize. There will also be some prizes for some of our game winners as well.  \nThis event is free and open to the public. Light snacks will be provided.  \nRegister at:https://tinyurl.com/SMCPCGaymeNightOct2025 \nPeninsula Books is located at 441 Westlake Center\, Daly City\, CA 94015. For accessibility and parking information\, please use this link: https://peninsulabooks.org/shopourstore/ \nQuestions? Please contact info@sanmateopride.org or call 650-591-0133
URL:https://sanmateopride.org/event/10-16-gayme-night-at-peninsula-books/
END:VEVENT
END:VCALENDAR