BEGIN:VCALENDAR
VERSION:2.0
PRODID:-//San Mateo County Pride Center - ECPv6.15.20//NONSGML v1.0//EN
CALSCALE:GREGORIAN
METHOD:PUBLISH
X-ORIGINAL-URL:https://sanmateopride.org
X-WR-CALDESC:Events for San Mateo County Pride Center
REFRESH-INTERVAL;VALUE=DURATION:PT1H
X-Robots-Tag:noindex
X-PUBLISHED-TTL:PT1H
BEGIN:VTIMEZONE
TZID:America/Los_Angeles
BEGIN:DAYLIGHT
TZOFFSETFROM:-0800
TZOFFSETTO:-0700
TZNAME:PDT
DTSTART:20250309T100000
END:DAYLIGHT
BEGIN:STANDARD
TZOFFSETFROM:-0700
TZOFFSETTO:-0800
TZNAME:PST
DTSTART:20251102T090000
END:STANDARD
BEGIN:DAYLIGHT
TZOFFSETFROM:-0800
TZOFFSETTO:-0700
TZNAME:PDT
DTSTART:20260308T100000
END:DAYLIGHT
BEGIN:STANDARD
TZOFFSETFROM:-0700
TZOFFSETTO:-0800
TZNAME:PST
DTSTART:20261101T090000
END:STANDARD
BEGIN:DAYLIGHT
TZOFFSETFROM:-0800
TZOFFSETTO:-0700
TZNAME:PDT
DTSTART:20270314T100000
END:DAYLIGHT
BEGIN:STANDARD
TZOFFSETFROM:-0700
TZOFFSETTO:-0800
TZNAME:PST
DTSTART:20271107T090000
END:STANDARD
END:VTIMEZONE
BEGIN:VEVENT
DTSTART;TZID=America/Los_Angeles:20260419T153840
DTEND;TZID=America/Los_Angeles:20260419T153840
DTSTAMP:20260419T153840
CREATED:20250220T003944Z
LAST-MODIFIED:20250403T232909Z
UID:13165-1776613120-1776613120@sanmateopride.org
SUMMARY:**On a temporary haitus** QTBIPOC Group (14-25)
DESCRIPTION:QTBIPOC Group (14-25)\n\n\n\n\nThe QTBIPOC Group is a peer support group for Queer\, Trans*\, Black\, Indigenous\, People of Color ages 14-25. This group is a safe community space dedicated to exploring\, supporting\, and educating ourselves and others on the intersectionality of being LGBTQ+ and of Color. This group is English speaking. \nThis group meets weekly on Tuesdays from 6-7:30pm on Zoom. \nTo sign up\, please fill out Outlet’s intake form using this link: tinyurl.com/OutletGroupForm or scan the QR Code. \nQuestions? Please contact Outletprogram@acs-teens.org or call 650-424-0842 ext. 107.
URL:https://sanmateopride.org/event/qtbipoc-group-14-25-20/
CATEGORIES:youth-group
END:VEVENT
BEGIN:VEVENT
DTSTART;TZID=America/Los_Angeles:20260419T153840
DTEND;TZID=America/Los_Angeles:20260419T153840
DTSTAMP:20260419T153840
CREATED:20250925T011430Z
LAST-MODIFIED:20250925T012356Z
UID:14985-1776613120-1776613120@sanmateopride.org
SUMMARY:Support Your Way with a Queer Package (A Suicide Prevention Month event)
DESCRIPTION:Support Your Way with a Queer Package (A Suicide Prevention Month event)\nTuesday\, 9/30 from 6:30-8:30PM at NAMI San Mateo County 1730 South Amphlett Blvd\, Suite 308\, San Mateo\, CA 94402\nEveryone needs a little boost sometimes. Or a hand while struggling with the challenges this chaotic world has had in store. Join the SMCPC in making a care package- a Queer Package- to show appreciation and maybe a little cheer to that person needing a lift. Join us Tuesday\, September 30th for an uplifting evening of creativity and connection as we celebrate the strength and resilience of our LGBTQIA+ community during Suicide Prevention Month. In this hands-on workshop and social\, you’ll create your own personalized care package while connecting with others in a supportive\, affirming environment. Together\, we will craft items that promote mental wellness and share local resources\, reminding us that through community\, we are never alone. \nAll ages welcome & community members welcome. This is a free event. Food and refreshments provided! See you on Tuesday\, 9/30 from 6:30-8:30PM at NAMI San Mateo County 1730 South Amphlett Blvd\, Suite 308\, San Mateo\, CA 94402 \nVisit https://tinyurl.com/SMCPCQueerPackageSPM to register \nQuestions? Please contact info@sanmateopride.org or 650-591-0133
URL:https://sanmateopride.org/event/support-your-way-with-a-queer-package-a-suicide-prevention-month-event/
END:VEVENT
END:VCALENDAR