BEGIN:VCALENDAR
VERSION:2.0
PRODID:-//San Mateo County Pride Center - ECPv6.15.20//NONSGML v1.0//EN
CALSCALE:GREGORIAN
METHOD:PUBLISH
X-ORIGINAL-URL:https://sanmateopride.org
X-WR-CALDESC:Events for San Mateo County Pride Center
REFRESH-INTERVAL;VALUE=DURATION:PT1H
X-Robots-Tag:noindex
X-PUBLISHED-TTL:PT1H
BEGIN:VTIMEZONE
TZID:America/Los_Angeles
BEGIN:DAYLIGHT
TZOFFSETFROM:-0800
TZOFFSETTO:-0700
TZNAME:PDT
DTSTART:20250309T100000
END:DAYLIGHT
BEGIN:STANDARD
TZOFFSETFROM:-0700
TZOFFSETTO:-0800
TZNAME:PST
DTSTART:20251102T090000
END:STANDARD
BEGIN:DAYLIGHT
TZOFFSETFROM:-0800
TZOFFSETTO:-0700
TZNAME:PDT
DTSTART:20260308T100000
END:DAYLIGHT
BEGIN:STANDARD
TZOFFSETFROM:-0700
TZOFFSETTO:-0800
TZNAME:PST
DTSTART:20261101T090000
END:STANDARD
BEGIN:DAYLIGHT
TZOFFSETFROM:-0800
TZOFFSETTO:-0700
TZNAME:PDT
DTSTART:20270314T100000
END:DAYLIGHT
BEGIN:STANDARD
TZOFFSETFROM:-0700
TZOFFSETTO:-0800
TZNAME:PST
DTSTART:20271107T090000
END:STANDARD
END:VTIMEZONE
BEGIN:VEVENT
DTSTART;TZID=America/Los_Angeles:20260419T172935
DTEND;TZID=America/Los_Angeles:20260419T172935
DTSTAMP:20260419T172935
CREATED:20250804T215616Z
LAST-MODIFIED:20250806T020738Z
UID:14610-1776619775-1776619775@sanmateopride.org
SUMMARY:Outlet and San Mateo County Pride Center - Summer Drop Ins (At Outlet)
DESCRIPTION:UPDATED LOCATION –   Adolescent Counseling Services (1779 Woodside Road\, Suite 200\, Redwood City CA 94061) \nFor accessibility information about ACS\, please visit this link. \nDates: Wednesdays* from 2-5pm \nStarting Wednesday June 18th through Wednesday August 27th! \n*With the exception of Wednesday July 2nd due to the Fourth of July Holiday. \n(Overview) Summer Drop Ins Schedule: \n\nJune 18th: Design a Tote Bag\nJune 25th: Design a Song/Playlist Cover + PRIDE Queeraoke (from 5-8pm)\nJuly 2nd: Cancelled due to the Fourth of July Holiday.\nJuly 9th: Journal Making\nJuly 16th: Button Making\nJuly 23rd: Video/Board Games\nJuly 30th: Cyanotype\nAugust 6th: Bracelet and Lanyard Making\nAugust 13th: Mend with Me Workshop\nAugust 20th: Paint & Snack\nAugust 27th: Summer Memories Collaging\n\nTo learn more about the activities\, please visit this link.
URL:https://sanmateopride.org/event/outlet-and-san-mateo-county-pride-center-summer-drop-ins-2/
CATEGORIES:youth-group
END:VEVENT
BEGIN:VEVENT
DTSTART;TZID=America/Los_Angeles:20260419T172935
DTEND;TZID=America/Los_Angeles:20260419T172935
DTSTAMP:20260419T172935
CREATED:20250806T010604Z
LAST-MODIFIED:20250806T031102Z
UID:14633-1776619775-1776619775@sanmateopride.org
SUMMARY:LGBTQ+ Book Club
DESCRIPTION:Peer Group Zooms are changing starting in August! If you attend any of our peer support groups\, you need to RE-REGISTER using the new registration link below. To see the new registration links for all the peer support groups\, please visit – https://sanmateopride.org/programs/peer-groups/\nThe San Mateo County Pride Center co-host the LGBTQ+ Book Club in partnership with San Mateo County Libraries. \nA free monthly book club with a focus on LGBTQ+ texts.  Join us for great book discussions with community\, and to cast your vote for future books!  Books may be purchased or borrowed from your local library.  This is an English-speaking group. \nThis group meets on the first Wednesday of the month from 4:30-6:00 PM. Beginning in August\, this group will shift from hybrid to Zoom only. \nPlease use this link to register: https://tinyurl.com/smpcbookclub \n\nHere is a list of the upcoming books that will be discussed – \n\nSeptember 3: The Parable of the Talents by Octavia E. Butler \n\n\nOctober 1: A Safe Girl To Love by Casey Plett \n\n\nNovember 5: Refusing Compulsory Sexuality: A Black Asexual Lens on Our Sex-Obsessed Culture by Sherronda J. Brown (Author)\, Grace B Freedom (Afterword)\, Hess Love (Foreword) \n\nTo learn more about the books that we’re reading\, please visit this link – this link. \nQuestions? Please contact Ishani.Dugar@sanmateopride.org or (650) 554-1234 (text ok)
URL:https://sanmateopride.org/event/lgbtq-book-club-2/
CATEGORIES:Peer Support Group
END:VEVENT
BEGIN:VEVENT
DTSTART;TZID=America/Los_Angeles:20260419T172935
DTEND;TZID=America/Los_Angeles:20260419T172935
DTSTAMP:20260419T172935
CREATED:20250804T221206Z
LAST-MODIFIED:20250806T035305Z
UID:14617-1776619775-1776619775@sanmateopride.org
SUMMARY:Polyamory Peer Power (18+)
DESCRIPTION:Peer Group Zooms are changing starting in August! If you attend any of our peer support groups\, you need to RE-REGISTER using the new registration link below. To see the new registration links for all the peer support groups\, please visit – https://sanmateopride.org/programs/peer-groups/\nHey folks! It’s almost time for the Polyamory Peer Power meeting with the San Mateo County Pride Center! This is a social and discussion group for polyamorous/open/RA/poly-friendly/poly-curious/etc folks (18+) in San Mateo County (and beyond) \nREGISTER IN ADVANCE for this meeting: https://tinyurl.com/smcpcpolyampower \nAfter registering\, you will receive a confirmation email containing a link and information about joining the meeting. Each computer/device will need their own registration. It’s ok to have more than one person on a single screen/Zoom account. Keep your link! You can use it for future months. (If you are asked for a code\, it’s “poly” — not capitalized\, no quote marks\, no punctuation!) \nAccessibility information: this group meets in English on Zoom and closed captioning is available. \nQuestions? Contact Ishani Dugar (they/them or xe/xem at ishani.dugar@sanmateopride.org or 650-554-1234 \nMORE INFO: \nThis is a social and discussion group for polyamorous/open/RA/poly-friendly/poly-curious/etc folks in San Mateo County (and beyond). \nCome share your experiences and ideas with others\, and learn from them in return. Get to know other poly/open/etc people in San Mateo County (and beyond)! \nThe San Mateo County Pride Center is open to all\, including LGBTQ\, polyamorous\, monogamous\, monogamish\, open\, RA\, poly-friendly\, queer allies\, as well as people from any background\, race\, gender or sexual identification\, religion\, political affiliation\, and length of hair (or lack thereof!). If you are interested and respectful of diversity\, we’re happy to have you join us!
URL:https://sanmateopride.org/event/polyamory-peer-power-18-3-2/
CATEGORIES:Peer Support Group
END:VEVENT
END:VCALENDAR