BEGIN:VCALENDAR
VERSION:2.0
PRODID:-//San Mateo County Pride Center - ECPv6.15.20//NONSGML v1.0//EN
CALSCALE:GREGORIAN
METHOD:PUBLISH
X-ORIGINAL-URL:https://sanmateopride.org
X-WR-CALDESC:Events for San Mateo County Pride Center
REFRESH-INTERVAL;VALUE=DURATION:PT1H
X-Robots-Tag:noindex
X-PUBLISHED-TTL:PT1H
BEGIN:VTIMEZONE
TZID:America/Los_Angeles
BEGIN:DAYLIGHT
TZOFFSETFROM:-0800
TZOFFSETTO:-0700
TZNAME:PDT
DTSTART:20250309T100000
END:DAYLIGHT
BEGIN:STANDARD
TZOFFSETFROM:-0700
TZOFFSETTO:-0800
TZNAME:PST
DTSTART:20251102T090000
END:STANDARD
BEGIN:DAYLIGHT
TZOFFSETFROM:-0800
TZOFFSETTO:-0700
TZNAME:PDT
DTSTART:20260308T100000
END:DAYLIGHT
BEGIN:STANDARD
TZOFFSETFROM:-0700
TZOFFSETTO:-0800
TZNAME:PST
DTSTART:20261101T090000
END:STANDARD
BEGIN:DAYLIGHT
TZOFFSETFROM:-0800
TZOFFSETTO:-0700
TZNAME:PDT
DTSTART:20270314T100000
END:DAYLIGHT
BEGIN:STANDARD
TZOFFSETFROM:-0700
TZOFFSETTO:-0800
TZNAME:PST
DTSTART:20271107T090000
END:STANDARD
END:VTIMEZONE
BEGIN:VEVENT
DTSTART;TZID=America/Los_Angeles:20260419T190823
DTEND;TZID=America/Los_Angeles:20260419T190823
DTSTAMP:20260419T190823
CREATED:20250402T211820Z
LAST-MODIFIED:20250515T011741Z
UID:13693-1776625703-1776625703@sanmateopride.org
SUMMARY:Conversation and Community
DESCRIPTION:Join us for these designated drop in times. We want to be your safe space during these uneasy times. Join us to have a little escape or just be with community. Snacks\, table games\, cards\, crafts\, video games\, and activities will be available\, but mostly we want to hold space for YOU! \nAll are welcome for this free event! Snacks will be provided. The Pride Center is located at 1021 S. El Camino Real in San Mateo\, 94402. Our building is located at 11th and El Camino. No registration link. \nFor accessibility information about the SMCPC\, visit this link – https://sanmateopride.org/accessibility \nQuestions? Email info@sanmateopride.org or call 650-591-0133 \nFlyer: Click here
URL:https://sanmateopride.org/event/conversation-and-community-2/
CATEGORIES:Community,Community Event
END:VEVENT
BEGIN:VEVENT
DTSTART;TZID=America/Los_Angeles:20260419T190823
DTEND;TZID=America/Los_Angeles:20260419T190823
DTSTAMP:20260419T190823
CREATED:20250220T003944Z
LAST-MODIFIED:20250403T232909Z
UID:13165-1776625703-1776625703@sanmateopride.org
SUMMARY:**On a temporary haitus** QTBIPOC Group (14-25)
DESCRIPTION:QTBIPOC Group (14-25)\n\n\n\n\nThe QTBIPOC Group is a peer support group for Queer\, Trans*\, Black\, Indigenous\, People of Color ages 14-25. This group is a safe community space dedicated to exploring\, supporting\, and educating ourselves and others on the intersectionality of being LGBTQ+ and of Color. This group is English speaking. \nThis group meets weekly on Tuesdays from 6-7:30pm on Zoom. \nTo sign up\, please fill out Outlet’s intake form using this link: tinyurl.com/OutletGroupForm or scan the QR Code. \nQuestions? Please contact Outletprogram@acs-teens.org or call 650-424-0842 ext. 107.
URL:https://sanmateopride.org/event/qtbipoc-group-14-25-20/
CATEGORIES:youth-group
END:VEVENT
END:VCALENDAR