BEGIN:VCALENDAR
VERSION:2.0
PRODID:-//San Mateo County Pride Center - ECPv6.15.20//NONSGML v1.0//EN
CALSCALE:GREGORIAN
METHOD:PUBLISH
X-ORIGINAL-URL:https://sanmateopride.org
X-WR-CALDESC:Events for San Mateo County Pride Center
REFRESH-INTERVAL;VALUE=DURATION:PT1H
X-Robots-Tag:noindex
X-PUBLISHED-TTL:PT1H
BEGIN:VTIMEZONE
TZID:America/Los_Angeles
BEGIN:DAYLIGHT
TZOFFSETFROM:-0800
TZOFFSETTO:-0700
TZNAME:PDT
DTSTART:20250309T100000
END:DAYLIGHT
BEGIN:STANDARD
TZOFFSETFROM:-0700
TZOFFSETTO:-0800
TZNAME:PST
DTSTART:20251102T090000
END:STANDARD
BEGIN:DAYLIGHT
TZOFFSETFROM:-0800
TZOFFSETTO:-0700
TZNAME:PDT
DTSTART:20260308T100000
END:DAYLIGHT
BEGIN:STANDARD
TZOFFSETFROM:-0700
TZOFFSETTO:-0800
TZNAME:PST
DTSTART:20261101T090000
END:STANDARD
BEGIN:DAYLIGHT
TZOFFSETFROM:-0800
TZOFFSETTO:-0700
TZNAME:PDT
DTSTART:20270314T100000
END:DAYLIGHT
BEGIN:STANDARD
TZOFFSETFROM:-0700
TZOFFSETTO:-0800
TZNAME:PST
DTSTART:20271107T090000
END:STANDARD
END:VTIMEZONE
BEGIN:VEVENT
DTSTART;TZID=America/Los_Angeles:20260419T190126
DTEND;TZID=America/Los_Angeles:20260419T190126
DTSTAMP:20260419T190126
CREATED:20250618T195857Z
LAST-MODIFIED:20250618T195857Z
UID:14331-1776625286-1776625286@sanmateopride.org
SUMMARY:Outlet and San Mateo County Pride Center - Summer Drop Ins
DESCRIPTION:Location: San Mateo County Pride Center (1021 El Camino Real\, San Mateo CA 94402) \nFor accessibility information about the Pride Center\, please visit their FAQ webpage. \nDates: Wednesdays* from 2-5pm \nStarting Wednesday June 18th through Wednesday August 27th! \n*With the exception of Wednesday July 2nd due to the Fourth of July Holiday. \n(Overview) Summer Drop Ins Schedule: \n\nJune 18th: Design a Tote Bag\nJune 25th: Design a Song/Playlist Cover + PRIDE Queeraoke (from 5-8pm)\nJuly 2nd: Cancelled due to the Fourth of July Holiday.\nJuly 9th: Journal Making\nJuly 16th: Button Making\nJuly 23rd: Video/Board Games\nJuly 30th: Cyanotype\nAugust 6th: Bracelet and Lanyard Making\nAugust 13th: Mend with Me Workshop\nAugust 20th: Paint & Snack\nAugust 27th: Summer Memories Collaging
URL:https://sanmateopride.org/event/outlet-and-san-mateo-county-pride-center-summer-drop-ins/
CATEGORIES:youth-group
END:VEVENT
BEGIN:VEVENT
DTSTART;TZID=America/Los_Angeles:20260419T190126
DTEND;TZID=America/Los_Angeles:20260419T190126
DTSTAMP:20260419T190126
CREATED:20250701T231233Z
LAST-MODIFIED:20250701T233309Z
UID:14382-1776625286-1776625286@sanmateopride.org
SUMMARY:Gayme Night at the San Mateo County Pride Center - a free community event!
DESCRIPTION:Gayme Night at the San Mateo County Pride Center – a free community event!\nInstead of being bored\, join us at the Pride Center for a fun night of board games! From party games to trivia\, we will have as much variety in games as we do in our community. Plus\, we will even have prizes! You have nothing to lose (except for every game you play). Join us on Wednesday\, July 23 from 6:30-8:30 PM! \nRegistration is encouraged\, but not required. Register in advance to be entered to win a drawing prize. There will also be some prizes for some of our game winners as well.  \nThis event is free and open to the public. Light snacks will be provided. Doors open at 6:15pm. \nRegister at:https://tinyurl.com/SMCPCGaymeNightJuly2025 \nThe Pride Center is located at 1021 S. El Camino Real in San Mateo\, 94402. Our building is located at 11th and El Camino. For accessibility and parking information\, please use this link: https://sanmateopride.org/accessibility  \nQuestions? Please contact info@sanmateopride.org or call 650-591-0133 \nAccessibility information about the Pride Center:  \n\nThe Pride Center is now “mask friendly.” While masks are no longer required\, we will continue to provide masks for those who wish to wear them.\nWe have a parking lot with a LIMITED amount of spaces. Please consider carpooling. The parking lot is located by our entrance on 11th between Palm St. and El Camino. In case the lot fills up\, there is plenty of street parking.\nThere is a wheel-chair accessible entrance located at the parking lot entrance.\nThe center is one block north of the ECR & 12th Avenue stop for Samtrans 397 and ECR.\nThe center has two gender neutral restrooms. Both are single stall\, are large and have railings.\nThis is currently not a scent-free/fragrance-free space. We strive to be scent/fragrance-aware.\nThe Pride Center is a weapon and substance free Sober space.
URL:https://sanmateopride.org/event/gayme-night-july-2025-san-mateo-county-pride-center/
CATEGORIES:Special Event
END:VEVENT
END:VCALENDAR