BEGIN:VCALENDAR
VERSION:2.0
PRODID:-//San Mateo County Pride Center - ECPv6.15.20//NONSGML v1.0//EN
CALSCALE:GREGORIAN
METHOD:PUBLISH
X-WR-CALNAME:San Mateo County Pride Center
X-ORIGINAL-URL:https://sanmateopride.org
X-WR-CALDESC:Events for San Mateo County Pride Center
REFRESH-INTERVAL;VALUE=DURATION:PT1H
X-Robots-Tag:noindex
X-PUBLISHED-TTL:PT1H
BEGIN:VTIMEZONE
TZID:America/Los_Angeles
BEGIN:DAYLIGHT
TZOFFSETFROM:-0800
TZOFFSETTO:-0700
TZNAME:PDT
DTSTART:20250309T100000
END:DAYLIGHT
BEGIN:STANDARD
TZOFFSETFROM:-0700
TZOFFSETTO:-0800
TZNAME:PST
DTSTART:20251102T090000
END:STANDARD
BEGIN:DAYLIGHT
TZOFFSETFROM:-0800
TZOFFSETTO:-0700
TZNAME:PDT
DTSTART:20260308T100000
END:DAYLIGHT
BEGIN:STANDARD
TZOFFSETFROM:-0700
TZOFFSETTO:-0800
TZNAME:PST
DTSTART:20261101T090000
END:STANDARD
BEGIN:DAYLIGHT
TZOFFSETFROM:-0800
TZOFFSETTO:-0700
TZNAME:PDT
DTSTART:20270314T100000
END:DAYLIGHT
BEGIN:STANDARD
TZOFFSETFROM:-0700
TZOFFSETTO:-0800
TZNAME:PST
DTSTART:20271107T090000
END:STANDARD
END:VTIMEZONE
BEGIN:VEVENT
DTSTART;TZID=America/Los_Angeles:20260419T222009
DTEND;TZID=America/Los_Angeles:20260419T222009
DTSTAMP:20260419T222009
CREATED:20250220T003251Z
LAST-MODIFIED:20250303T194809Z
UID:13160-1776637209-1776637209@sanmateopride.org
SUMMARY:Monday LGBTQIA+ Youth Group
DESCRIPTION:A peer support group for LGBTQIA+ youth ages 10-18. this group is a safe and confidential space to share experiences and build community. This group is English speaking. \nTo sign up\, please fill out Outlet’s Intake Form by visiting: tinyurl.com/OutletGroupForm \nLocation: This group meets in-person every Monday from 4:30pm – 6:00pm in Redwood City at Adolescent Counseling Services (1779 Woodside Rd # 200\, Redwood City\, CA 94061). \nClick here for the flyer \nQuestions? Contact Outlet at outletprogram@acs-teens.org or 650-424-0852 ext 107
URL:https://sanmateopride.org/event/monday-lgbtqia-youth-group/
CATEGORIES:youth-group
END:VEVENT
BEGIN:VEVENT
DTSTART;TZID=America/Los_Angeles:20260419T222009
DTEND;TZID=America/Los_Angeles:20260419T222009
DTSTAMP:20260419T222009
CREATED:20250303T183857Z
LAST-MODIFIED:20250303T201943Z
UID:13353-1776637209-1776637209@sanmateopride.org
SUMMARY:Gay Men's Group (18+)
DESCRIPTION:Are you tired of living in a text and dating app focused world? Are you looking for a place to virtually connect with Gay Men and build Community and Friendship? Meet with Jeff on the 4th Tuesday of each month to discuss relationships\, current events\, culture\, and more. There are a wide range of ages and stories in our Gay Men’s Group. \nBe a part of the conversation! \nThis group meets the fourth Tuesday of the month from 6-7:30 PM on Zoom. \nRegistration is required: tinyurl.com/smcpc-gaymensgroup \nPlease contact Ishani Dugar\, they/xe at Ishani.Dugar@sanmateopride.org or 650-465-2407 for additional information or questions regarding the group. \nWe are currently looking for a volunteer co-facilitators for the Gay Men’s Group! If you are interested\, please reach out to Ishani Dugar at Ishani.Dugar@sanmateopride.org.
URL:https://sanmateopride.org/event/gay-mens-group-18-6/
CATEGORIES:Peer Support Group
END:VEVENT
END:VCALENDAR