BEGIN:VCALENDAR
VERSION:2.0
PRODID:-//San Mateo County Pride Center - ECPv6.15.20//NONSGML v1.0//EN
CALSCALE:GREGORIAN
METHOD:PUBLISH
X-WR-CALNAME:San Mateo County Pride Center
X-ORIGINAL-URL:https://sanmateopride.org
X-WR-CALDESC:Events for San Mateo County Pride Center
REFRESH-INTERVAL;VALUE=DURATION:PT1H
X-Robots-Tag:noindex
X-PUBLISHED-TTL:PT1H
BEGIN:VTIMEZONE
TZID:America/Los_Angeles
BEGIN:DAYLIGHT
TZOFFSETFROM:-0800
TZOFFSETTO:-0700
TZNAME:PDT
DTSTART:20250309T100000
END:DAYLIGHT
BEGIN:STANDARD
TZOFFSETFROM:-0700
TZOFFSETTO:-0800
TZNAME:PST
DTSTART:20251102T090000
END:STANDARD
BEGIN:DAYLIGHT
TZOFFSETFROM:-0800
TZOFFSETTO:-0700
TZNAME:PDT
DTSTART:20260308T100000
END:DAYLIGHT
BEGIN:STANDARD
TZOFFSETFROM:-0700
TZOFFSETTO:-0800
TZNAME:PST
DTSTART:20261101T090000
END:STANDARD
BEGIN:DAYLIGHT
TZOFFSETFROM:-0800
TZOFFSETTO:-0700
TZNAME:PDT
DTSTART:20270314T100000
END:DAYLIGHT
BEGIN:STANDARD
TZOFFSETFROM:-0700
TZOFFSETTO:-0800
TZNAME:PST
DTSTART:20271107T090000
END:STANDARD
END:VTIMEZONE
BEGIN:VEVENT
DTSTART;TZID=America/Los_Angeles:20260419T235344
DTEND;TZID=America/Los_Angeles:20260419T235344
DTSTAMP:20260419T235344
CREATED:20250402T193824Z
LAST-MODIFIED:20250402T230324Z
UID:13684-1776642824-1776642824@sanmateopride.org
SUMMARY:FriGay Flicks: Wicked (Rated PG)
DESCRIPTION:Join us at the Pride Center while we head over the rainbow to Oz to watch Wicked (2024)! We invite you to come dressed in your favorite Oz attire. \nThis event is free and open to the public. Pizza and snacks will be provided. Doors open at 5:30 and the movie will start at 6 pm. \nAbout the Film:\nThe untold story of the witches of Oz\, Wicked stars Cynthia Erivo as Elphaba\, a misunderstood young woman who has yet to discover her true power\, and Ariana Grande as Glinda\, a popular young woman who has yet to discover her true heart. The two meet at Shiz University and forge an unlikely friendship—before their lives take different paths following an encounter with The Wonderful Wizard of Oz. Their extraordinary adventures will ultimately see them fulfill their destinies as the Wicked Witch of the West and Glinda the Good. This film is Rated PG. \nContent warnings include:\nViolence (mild) \nThe Pride Center is located at 1021 S. El Camino Real in San Mateo\, 94402. Our building is located at 11th and El Camino. \nFor accessibility and parking information\, please use this link: https://sanmateopride.org/accessibility \nClosed Captioning will be utilized for this film.\n\nRegister at: https://tinyurl.com/FriGayApril2025
URL:https://sanmateopride.org/event/frigay-flicks-wicked-rated-pg/
CATEGORIES:Special Event
END:VEVENT
END:VCALENDAR