BEGIN:VCALENDAR
VERSION:2.0
PRODID:-//San Mateo County Pride Center - ECPv6.15.20//NONSGML v1.0//EN
CALSCALE:GREGORIAN
METHOD:PUBLISH
X-WR-CALNAME:San Mateo County Pride Center
X-ORIGINAL-URL:https://sanmateopride.org
X-WR-CALDESC:Events for San Mateo County Pride Center
REFRESH-INTERVAL;VALUE=DURATION:PT1H
X-Robots-Tag:noindex
X-PUBLISHED-TTL:PT1H
BEGIN:VTIMEZONE
TZID:America/Los_Angeles
BEGIN:DAYLIGHT
TZOFFSETFROM:-0800
TZOFFSETTO:-0700
TZNAME:PDT
DTSTART:20250309T100000
END:DAYLIGHT
BEGIN:STANDARD
TZOFFSETFROM:-0700
TZOFFSETTO:-0800
TZNAME:PST
DTSTART:20251102T090000
END:STANDARD
BEGIN:DAYLIGHT
TZOFFSETFROM:-0800
TZOFFSETTO:-0700
TZNAME:PDT
DTSTART:20260308T100000
END:DAYLIGHT
BEGIN:STANDARD
TZOFFSETFROM:-0700
TZOFFSETTO:-0800
TZNAME:PST
DTSTART:20261101T090000
END:STANDARD
BEGIN:DAYLIGHT
TZOFFSETFROM:-0800
TZOFFSETTO:-0700
TZNAME:PDT
DTSTART:20270314T100000
END:DAYLIGHT
BEGIN:STANDARD
TZOFFSETFROM:-0700
TZOFFSETTO:-0800
TZNAME:PST
DTSTART:20271107T090000
END:STANDARD
END:VTIMEZONE
BEGIN:VEVENT
DTSTART;TZID=America/Los_Angeles:20260420T071959
DTEND;TZID=America/Los_Angeles:20260420T071959
DTSTAMP:20260420T071959
CREATED:20250221T201523Z
LAST-MODIFIED:20250303T202041Z
UID:13243-1776669599-1776669599@sanmateopride.org
SUMMARY:LGBTQ+ Book Club
DESCRIPTION:The San Mateo County Pride Center co-host the LGBTQ+ Book Club in partnership with San Mateo County Libraries. \nA free monthly book club with a focus on LGBTQ+ texts.  Join us for great book discussions with community\, and to cast your vote for future books!  Books may be purchased or borrowed from your local library.  This is an English-speaking group. \nThis group meets on the first Wednesday of the month from 4:30-6:00 PM on Zoom. \nPlease use this link to register: tinyurl.com/smcpc-bookclub \n\nPlease use this link to access the books that we’re reading.
URL:https://sanmateopride.org/event/lgbtq-book-club/
CATEGORIES:Peer Support Group
END:VEVENT
END:VCALENDAR