BEGIN:VCALENDAR
VERSION:2.0
PRODID:-//San Mateo County Pride Center - ECPv6.15.20//NONSGML v1.0//EN
CALSCALE:GREGORIAN
METHOD:PUBLISH
X-ORIGINAL-URL:https://sanmateopride.org
X-WR-CALDESC:Events for San Mateo County Pride Center
REFRESH-INTERVAL;VALUE=DURATION:PT1H
X-Robots-Tag:noindex
X-PUBLISHED-TTL:PT1H
BEGIN:VTIMEZONE
TZID:America/Los_Angeles
BEGIN:DAYLIGHT
TZOFFSETFROM:-0800
TZOFFSETTO:-0700
TZNAME:PDT
DTSTART:20250309T100000
END:DAYLIGHT
BEGIN:STANDARD
TZOFFSETFROM:-0700
TZOFFSETTO:-0800
TZNAME:PST
DTSTART:20251102T090000
END:STANDARD
BEGIN:DAYLIGHT
TZOFFSETFROM:-0800
TZOFFSETTO:-0700
TZNAME:PDT
DTSTART:20260308T100000
END:DAYLIGHT
BEGIN:STANDARD
TZOFFSETFROM:-0700
TZOFFSETTO:-0800
TZNAME:PST
DTSTART:20261101T090000
END:STANDARD
BEGIN:DAYLIGHT
TZOFFSETFROM:-0800
TZOFFSETTO:-0700
TZNAME:PDT
DTSTART:20270314T100000
END:DAYLIGHT
BEGIN:STANDARD
TZOFFSETFROM:-0700
TZOFFSETTO:-0800
TZNAME:PST
DTSTART:20271107T090000
END:STANDARD
END:VTIMEZONE
BEGIN:VEVENT
DTSTART;TZID=America/Los_Angeles:20260420T155837
DTEND;TZID=America/Los_Angeles:20260420T155837
DTSTAMP:20260420T155837
CREATED:20250207T050754Z
LAST-MODIFIED:20250207T050754Z
UID:10915-1776700717-1776700717@sanmateopride.org
SUMMARY:PFLAG
DESCRIPTION:PFLAG San Mateo Meeting at the San Mateo County Pride Center on the 2nd Monday of Every Month from 7:00pm-9:00pm. Parents\, families\, friends\, allies and LGBTQ+ folks are welcome! \nThis group is currently meeting virtually; for information about how to join this meeting\, please visit: PFLAG San Jose/Peninsula – Meetings \nSan Jose/Peninsula PFLAG Meetings are also held in Redwood City (Parents of Transgender Children Support) and in San Jose. \nPlease visit our Website or contact our helpline for more information: \nwww.pflagsanjose.org\n408-270-8182
URL:https://sanmateopride.org/event/pflag-5/
CATEGORIES:Peer Support Group
END:VEVENT
BEGIN:VEVENT
DTSTART;TZID=America/Los_Angeles:20260420T155837
DTEND;TZID=America/Los_Angeles:20260420T155837
DTSTAMP:20260420T155837
CREATED:20240726T172143Z
LAST-MODIFIED:20240726T172143Z
UID:10315-1776700717-1776700717@sanmateopride.org
SUMMARY:PFLAG
DESCRIPTION:Normal
URL:https://sanmateopride.org/event/pflag-4/
END:VEVENT
END:VCALENDAR