BEGIN:VCALENDAR
VERSION:2.0
PRODID:-//San Mateo County Pride Center - ECPv6.15.20//NONSGML v1.0//EN
CALSCALE:GREGORIAN
METHOD:PUBLISH
X-WR-CALNAME:San Mateo County Pride Center
X-ORIGINAL-URL:https://sanmateopride.org
X-WR-CALDESC:Events for San Mateo County Pride Center
REFRESH-INTERVAL;VALUE=DURATION:PT1H
X-Robots-Tag:noindex
X-PUBLISHED-TTL:PT1H
BEGIN:VTIMEZONE
TZID:America/Los_Angeles
BEGIN:DAYLIGHT
TZOFFSETFROM:-0800
TZOFFSETTO:-0700
TZNAME:PDT
DTSTART:20250309T100000
END:DAYLIGHT
BEGIN:STANDARD
TZOFFSETFROM:-0700
TZOFFSETTO:-0800
TZNAME:PST
DTSTART:20251102T090000
END:STANDARD
BEGIN:DAYLIGHT
TZOFFSETFROM:-0800
TZOFFSETTO:-0700
TZNAME:PDT
DTSTART:20260308T100000
END:DAYLIGHT
BEGIN:STANDARD
TZOFFSETFROM:-0700
TZOFFSETTO:-0800
TZNAME:PST
DTSTART:20261101T090000
END:STANDARD
BEGIN:DAYLIGHT
TZOFFSETFROM:-0800
TZOFFSETTO:-0700
TZNAME:PDT
DTSTART:20270314T100000
END:DAYLIGHT
BEGIN:STANDARD
TZOFFSETFROM:-0700
TZOFFSETTO:-0800
TZNAME:PST
DTSTART:20271107T090000
END:STANDARD
END:VTIMEZONE
BEGIN:VEVENT
DTSTART;TZID=America/Los_Angeles:20260420T155723
DTEND;TZID=America/Los_Angeles:20260420T155723
DTSTAMP:20260420T155723
CREATED:20250207T050753Z
LAST-MODIFIED:20250404T014650Z
UID:10913-1776700643-1776700643@sanmateopride.org
SUMMARY:Trans Group (ages 14-25)
DESCRIPTION:A peer support group for Trans* folks ages 14-25 who identify as part of the transgender community or who want to explore their gender identity. This group is a safe and confidential space to share experiences and built positive relationship in a welcoming environment and will include specific trans femme/trans/masc breakout spaces. This group is English speaking. \nThis group meets weekly on Tuesdays from 5-6:30pm on Zoom. \nTo sign up\, please fill out Outlet’s intake form using this link: tinyurl.com/OutletGroupForm or scan the QR Code. \nQuestions? Please contact Outletprogram@acs-teens.org or call 650-424-0842 ext. 107.\nA peer support group for Trans* folks ages 14-25 who identify as part of the transgender community or who want to explore their gender identity. This group is a safe and confidential space to share experiences and built positive relationship in a welcoming environment and will include specific trans femme/trans/masc breakout spaces. This group is English speaking.
URL:https://sanmateopride.org/event/trans-group-ages-14-25-5/
CATEGORIES:youth-group
END:VEVENT
BEGIN:VEVENT
DTSTART;TZID=America/Los_Angeles:20260420T155723
DTEND;TZID=America/Los_Angeles:20260420T155723
DTSTAMP:20260420T155723
CREATED:20250207T050753Z
LAST-MODIFIED:20250207T050753Z
UID:10914-1776700643-1776700643@sanmateopride.org
SUMMARY:Trans Peer support Group (18+)
DESCRIPTION:The Trans Peer Support Group is a free\, safe space open to all Trans*/GNC/Non-binary community members to share experiences and build connections. This free\, drop-in\, peer-led support group meets on the first Thursday of the month from 6:00pm until 7:30pm. \nIt is open to all trans folks ages 18+. * As a gentle reminder\, we have clinical support available to community members who feel like they would benefit from more support than this social group has available. We will work with you to ensure that these services are accessible. \n**Please note: these dates are subject to change\, please see our Instagram page (@sanmateopride) for info about date changes Please Contact Elana (she/they) at elana.ron@sanmateopride.org with any questions. \nIf you need to re-register\, you can do so at this link: tinyurl.com/smcpc-transgroup1  \n*Please note\, you only have to register for this group once. The meeting link and password will remain the same.
URL:https://sanmateopride.org/event/trans-peer-support-group-18-4/
CATEGORIES:Peer Support Group
END:VEVENT
BEGIN:VEVENT
DTSTART;TZID=America/Los_Angeles:20260420T155723
DTEND;TZID=America/Los_Angeles:20260420T155723
DTSTAMP:20260420T155723
CREATED:20240726T172447Z
LAST-MODIFIED:20240726T172447Z
UID:10370-1776700643-1776700643@sanmateopride.org
SUMMARY:Trans* Peer Support Group (18+)
DESCRIPTION:Normal
URL:https://sanmateopride.org/event/trans-peer-support-group-18-3/
END:VEVENT
BEGIN:VEVENT
DTSTART;TZID=America/Los_Angeles:20260420T155723
DTEND;TZID=America/Los_Angeles:20260420T155723
DTSTAMP:20260420T155723
CREATED:20240726T172533Z
LAST-MODIFIED:20240726T172533Z
UID:10384-1776700643-1776700643@sanmateopride.org
SUMMARY:[ON HOLD] Trans Group (ages 14-25)
DESCRIPTION:Normal
URL:https://sanmateopride.org/event/on-hold-trans-group-ages-14-25-10/
END:VEVENT
END:VCALENDAR